BEGIN:VCALENDAR
VERSION:2.0
PRODID:-//Space Cookies VEX - ECPv6.15.20//NONSGML v1.0//EN
CALSCALE:GREGORIAN
METHOD:PUBLISH
X-ORIGINAL-URL:https://vex.spacecookies.org
X-WR-CALDESC:Events for Space Cookies VEX
REFRESH-INTERVAL;VALUE=DURATION:PT1H
X-Robots-Tag:noindex
X-PUBLISHED-TTL:PT1H
BEGIN:VTIMEZONE
TZID:America/Los_Angeles
BEGIN:DAYLIGHT
TZOFFSETFROM:-0800
TZOFFSETTO:-0700
TZNAME:PDT
DTSTART:20230312T100000
END:DAYLIGHT
BEGIN:STANDARD
TZOFFSETFROM:-0700
TZOFFSETTO:-0800
TZNAME:PST
DTSTART:20231105T090000
END:STANDARD
BEGIN:DAYLIGHT
TZOFFSETFROM:-0800
TZOFFSETTO:-0700
TZNAME:PDT
DTSTART:20240310T100000
END:DAYLIGHT
BEGIN:STANDARD
TZOFFSETFROM:-0700
TZOFFSETTO:-0800
TZNAME:PST
DTSTART:20241103T090000
END:STANDARD
BEGIN:DAYLIGHT
TZOFFSETFROM:-0800
TZOFFSETTO:-0700
TZNAME:PDT
DTSTART:20250309T100000
END:DAYLIGHT
BEGIN:STANDARD
TZOFFSETFROM:-0700
TZOFFSETTO:-0800
TZNAME:PST
DTSTART:20251102T090000
END:STANDARD
BEGIN:DAYLIGHT
TZOFFSETFROM:-0800
TZOFFSETTO:-0700
TZNAME:PDT
DTSTART:20260308T100000
END:DAYLIGHT
BEGIN:STANDARD
TZOFFSETFROM:-0700
TZOFFSETTO:-0800
TZNAME:PST
DTSTART:20261101T090000
END:STANDARD
BEGIN:DAYLIGHT
TZOFFSETFROM:-0800
TZOFFSETTO:-0700
TZNAME:PDT
DTSTART:20270314T100000
END:DAYLIGHT
BEGIN:STANDARD
TZOFFSETFROM:-0700
TZOFFSETTO:-0800
TZNAME:PST
DTSTART:20271107T090000
END:STANDARD
END:VTIMEZONE
BEGIN:VEVENT
DTSTART;TZID=America/Los_Angeles:20260418T130000
DTEND;TZID=America/Los_Angeles:20260418T160000
DTSTAMP:20260423T055109
CREATED:20260404T220151Z
LAST-MODIFIED:20260404T220151Z
UID:2641-1776517200-1776528000@vex.spacecookies.org
SUMMARY:Space Cookies VEX 2026 Open House
DESCRIPTION:Please register using this form:https://forms.gle/uFTxQdn35yrBqxh2A \nWe will send more details via email 1 week prior to the event.
URL:https://vex.spacecookies.org/event/space-cookies-vex-2026-open-house/
LOCATION:Space Cookies VEX Lab at NASA Ames\, Moffett Field\, CA
CATEGORIES:Recruitment
END:VEVENT
BEGIN:VEVENT
DTSTART;VALUE=DATE:20260221
DTEND;VALUE=DATE:20260222
DTSTAMP:20260423T055109
CREATED:20260111T053916Z
LAST-MODIFIED:20260111T053916Z
UID:2604-1771632000-1771718399@vex.spacecookies.org
SUMMARY:Bay Area VEX V5 Push Back Tournament #6
DESCRIPTION:All 4 sub-teams will be competing
URL:https://vex.spacecookies.org/event/bay-area-vex-v5-push-back-tournament-6/
LOCATION:Cesar Chavez Ravenswood Middle School\, 2450 Ralmar Avenue\, East Palo Alto\, CA\, 94303\, United States
CATEGORIES:Competition
END:VEVENT
BEGIN:VEVENT
DTSTART;VALUE=DATE:20260207
DTEND;VALUE=DATE:20260208
DTSTAMP:20260423T055109
CREATED:20260107T024900Z
LAST-MODIFIED:20260107T024900Z
UID:2593-1770422400-1770508799@vex.spacecookies.org
SUMMARY:4th Annual Redwood Choo Choo Winter Tournament
DESCRIPTION:Teams 1868C\, 1868M and 1868Z will compete
URL:https://vex.spacecookies.org/event/4th-annual-redwood-choo-choo-winter-tournament/
LOCATION:Redwood Middle School\, 13925 Fruitvale Avenue\, Saratoga\, CA\, 95070\, United States
CATEGORIES:Competition
END:VEVENT
BEGIN:VEVENT
DTSTART;VALUE=DATE:20260131
DTEND;VALUE=DATE:20260201
DTSTAMP:20260423T055109
CREATED:20251226T053322Z
LAST-MODIFIED:20251226T053322Z
UID:2586-1769817600-1769903999@vex.spacecookies.org
SUMMARY:NorCal Silicon Valley Golden State Push Back Tournament # 1
DESCRIPTION:Team 1868A will be competing
URL:https://vex.spacecookies.org/event/norcal-silicon-valley-golden-state-push-back-tournament-1/
LOCATION:India Community Center\, 525 Los Coches Street\, Milpitas\, CA\, 95035\, United States
CATEGORIES:Competition
END:VEVENT
BEGIN:VEVENT
DTSTART;VALUE=DATE:20260117
DTEND;VALUE=DATE:20260118
DTSTAMP:20260423T055109
CREATED:20251226T054131Z
LAST-MODIFIED:20251226T054131Z
UID:2588-1768608000-1768694399@vex.spacecookies.org
SUMMARY:V5RC Tournament: Bionic Bruins Beat the Bay #2 MS/HS
DESCRIPTION:Teams 1868A\, 1868C\, 1868M and 1868Z will be competing
URL:https://vex.spacecookies.org/event/v5rc-tournament-bionic-bruins-beat-the-bay-2-ms-hs/
LOCATION:Branham High School\, 1570 Branham Lane\, San Jose\, 95118\, United States
CATEGORIES:Competition
END:VEVENT
BEGIN:VEVENT
DTSTART;VALUE=DATE:20260104
DTEND;VALUE=DATE:20260105
DTSTAMP:20260423T055109
CREATED:20251226T053232Z
LAST-MODIFIED:20251226T053232Z
UID:2584-1767484800-1767571199@vex.spacecookies.org
SUMMARY:NorCal Silicon Valley VEX V5 Push Back Tournament ROOKIE Only
DESCRIPTION:Team 1868Z will be competing
URL:https://vex.spacecookies.org/event/norcal-silicon-valley-vex-v5-push-back-tournament-rookie-only/
LOCATION:India Community Center\, 525 Los Coches Street\, Milpitas\, CA\, 95035\, United States
CATEGORIES:Competition
END:VEVENT
BEGIN:VEVENT
DTSTART;VALUE=DATE:20251207
DTEND;VALUE=DATE:20251208
DTSTAMP:20260423T055109
CREATED:20251011T221344Z
LAST-MODIFIED:20251031T172032Z
UID:2573-1765065600-1765151999@vex.spacecookies.org
SUMMARY:V5RC Tournament: Bionic Bruins Beat the Bay #1 MS/HS
DESCRIPTION:teams A\, C & M will be competing
URL:https://vex.spacecookies.org/event/v5rc-tournament-bionic-bruins-beat-the-bay-1-ms-hs/
LOCATION:Branham High School\, 1570 Branham Lane\, San Jose\, 95118\, United States
CATEGORIES:Competition
END:VEVENT
BEGIN:VEVENT
DTSTART;VALUE=DATE:20251115
DTEND;VALUE=DATE:20251116
DTSTAMP:20260423T055109
CREATED:20251031T172203Z
LAST-MODIFIED:20251031T172203Z
UID:2581-1763164800-1763251199@vex.spacecookies.org
SUMMARY:Bay Area VEX V5 Push Back Tournament #3
DESCRIPTION:Teams A\, C & M will be competing
URL:https://vex.spacecookies.org/event/bay-area-vex-v5-push-back-tournament-3/
LOCATION:Cesar Chavez Ravenswood Middle School\, 2450 Ralmar Avenue\, East Palo Alto\, CA\, 94303\, United States
CATEGORIES:Competition
END:VEVENT
BEGIN:VEVENT
DTSTART;VALUE=DATE:20251018
DTEND;VALUE=DATE:20251019
DTSTAMP:20260423T055109
CREATED:20250926T012314Z
LAST-MODIFIED:20250926T012446Z
UID:2569-1760745600-1760831999@vex.spacecookies.org
SUMMARY:Robolabs VEX V5 Robotics Competition #2
DESCRIPTION:Team 1868M will be competing!
URL:https://vex.spacecookies.org/event/robolabs-vex-v5-robotics-competition-2/
LOCATION:Dublin Robotics Club\, 6500 Dublin Boulevard\, Dublin\, CA\, 94568\, United States
CATEGORIES:Competition
END:VEVENT
BEGIN:VEVENT
DTSTART;VALUE=DATE:20251004
DTEND;VALUE=DATE:20251005
DTSTAMP:20260423T055109
CREATED:20250922T041745Z
LAST-MODIFIED:20250922T041745Z
UID:2567-1759536000-1759622399@vex.spacecookies.org
SUMMARY:Tri-Valley VEX V5 Robotics Competition #1
DESCRIPTION:team 1868A will compete
URL:https://vex.spacecookies.org/event/tri-valley-vex-v5-robotics-competition-1/
LOCATION:Dublin Robotics Club\, 6500 Dublin Boulevard\, Dublin\, CA\, 94568\, United States
CATEGORIES:Competition
END:VEVENT
BEGIN:VEVENT
DTSTART;VALUE=DATE:20250927
DTEND;VALUE=DATE:20250928
DTSTAMP:20260423T055109
CREATED:20250912T010611Z
LAST-MODIFIED:20250912T010611Z
UID:2563-1758931200-1759017599@vex.spacecookies.org
SUMMARY:Bay Area VEX V5 Robotics Competition #1
DESCRIPTION:Team 1868C will be competing.
URL:https://vex.spacecookies.org/event/bay-area-vex-v5-robotics-competition-1/
LOCATION:Cesar Chavez Ravenswood Middle School\, 2450 Ralmar Avenue\, East Palo Alto\, CA\, 94303\, United States
CATEGORIES:Competition
END:VEVENT
BEGIN:VEVENT
DTSTART;VALUE=DATE:20250927
DTEND;VALUE=DATE:20250928
DTSTAMP:20260423T055109
CREATED:20250903T022215Z
LAST-MODIFIED:20250903T022215Z
UID:2557-1758931200-1759017599@vex.spacecookies.org
SUMMARY:Reid-Hillview Airport Community Day
DESCRIPTION:We will be demonstrating our competition robots\, allowing participants to drive small square bot robots\, and participate in activities and games.
URL:https://vex.spacecookies.org/event/reid-hillview-airport-community-day/
LOCATION:Reid-Hillview County Airport\, 2500 Cunningham Ave\,\, San Jose\, CA\, 95148\, United States
CATEGORIES:Outreach
END:VEVENT
BEGIN:VEVENT
DTSTART;VALUE=DATE:20250617
DTEND;VALUE=DATE:20250618
DTSTAMP:20260423T055109
CREATED:20250603T022743Z
LAST-MODIFIED:20250603T022743Z
UID:2530-1750118400-1750118400@vex.spacecookies.org
SUMMARY:NASA Ames Research Center Employee Picnic
DESCRIPTION:
URL:https://vex.spacecookies.org/event/nasa-ames-research-center-employee-picnic-2/
LOCATION:NASA Ames Research Center\, Naval Air Station\, Moffett Field\, Mountain View\, CA\, 94035\, United States
CATEGORIES:Outreach
END:VEVENT
BEGIN:VEVENT
DTSTART;VALUE=DATE:20250506
DTEND;VALUE=DATE:20250509
DTSTAMP:20260423T055109
CREATED:20250322T235610Z
LAST-MODIFIED:20250322T235730Z
UID:2517-1746489600-1746748799@vex.spacecookies.org
SUMMARY:2025 VEX Robotics World Championship
DESCRIPTION:Team 1868A will compete at the High School championships. This is Space Cookies VEX’s first time going to Worlds!!!
URL:https://vex.spacecookies.org/event/2025-vex-robotics-world-championship/
LOCATION:Kay Bailey Hutchison Convention Center Dallas\, 650 South Griffin Street\, Dallas\, TX\, 75202\, United States
CATEGORIES:Competition
END:VEVENT
BEGIN:VEVENT
DTSTART;VALUE=DATE:20250406
DTEND;VALUE=DATE:20250407
DTSTAMP:20260423T055109
CREATED:20241110T212148Z
LAST-MODIFIED:20241207T215743Z
UID:2455-1743897600-1743983999@vex.spacecookies.org
SUMMARY:Space Cookies VEX 2025 Open House
DESCRIPTION:We will post a registration form in late January/early February 2025.
URL:https://vex.spacecookies.org/event/space-cookies-vex-2025-open-house/
CATEGORIES:Recruitment
END:VEVENT
BEGIN:VEVENT
DTSTART;VALUE=DATE:20250322
DTEND;VALUE=DATE:20250323
DTSTAMP:20260423T055109
CREATED:20241119T042438Z
LAST-MODIFIED:20241119T042438Z
UID:2467-1742601600-1742687999@vex.spacecookies.org
SUMMARY:RAFT Girls in STEAM Day 2025
DESCRIPTION:We will post the registration link once it is released by the event organizer. \nWe will host a workshop for Girl Scouts interested in learning more about robotics where they will complete several steps of their robotics badges
URL:https://vex.spacecookies.org/event/raft-girls-in-steam-day-2025/
LOCATION:Resource Area For Teaching – RAFT San Jose\, 1355 Ridder Park Dr\, San Jose\, CA\, 95131\, United States
CATEGORIES:Outreach
END:VEVENT
BEGIN:VEVENT
DTSTART;VALUE=DATE:20250308
DTEND;VALUE=DATE:20250310
DTSTAMP:20260423T055109
CREATED:20250223T172542Z
LAST-MODIFIED:20250223T172542Z
UID:2500-1741392000-1741564799@vex.spacecookies.org
SUMMARY:2025 California Region 2 VEX V5 High School Championship
DESCRIPTION:Team 1868A will attend
URL:https://vex.spacecookies.org/event/2025-california-region-2-vex-v5-high-school-championship/
LOCATION:India Community Center\, 525 Los Coches Street\, Milpitas\, CA\, 95035\, United States
CATEGORIES:Competition
END:VEVENT
BEGIN:VEVENT
DTSTART;TZID=America/Los_Angeles:20250222T070000
DTEND;TZID=America/Los_Angeles:20250222T170000
DTSTAMP:20260423T055109
CREATED:20250223T172429Z
LAST-MODIFIED:20250223T172429Z
UID:2498-1740207600-1740243600@vex.spacecookies.org
SUMMARY:Bay Area High Stakes VEX V5 Robotics Competition #6
DESCRIPTION:Congratulations for all teams making the eliminations round of 10.\nCongratulations to teams 1868C and 1868W for making the semifinals!\nAnd congratulations to team 1868A for winning the High School Excellence award\, qualifying them for the California Region 2 championship!
URL:https://vex.spacecookies.org/event/bay-area-high-stakes-vex-v5-robotics-competition-6/
LOCATION:Cesar Chavez Ravenswood Middle School\, 2450 Ralmar Avenue\, East Palo Alto\, CA\, 94303\, United States
CATEGORIES:Competition
END:VEVENT
BEGIN:VEVENT
DTSTART;VALUE=DATE:20250201
DTEND;VALUE=DATE:20250202
DTSTAMP:20260423T055109
CREATED:20250121T184657Z
LAST-MODIFIED:20250121T184657Z
UID:2483-1738368000-1738454399@vex.spacecookies.org
SUMMARY:Bionic Bruins Beat the Bay #2
DESCRIPTION:
URL:https://vex.spacecookies.org/event/bionic-bruins-beat-the-bay-2/
LOCATION:Branham High School\, 1570 Branham Lane\, San Jose\, 95118\, United States
CATEGORIES:Competition
END:VEVENT
BEGIN:VEVENT
DTSTART;TZID=America/Los_Angeles:20250119T080000
DTEND;TZID=America/Los_Angeles:20250119T183000
DTSTAMP:20260423T055109
CREATED:20241210T003717Z
LAST-MODIFIED:20250121T184834Z
UID:2477-1737273600-1737311400@vex.spacecookies.org
SUMMARY:Battle of The Bay 2025
DESCRIPTION:Congratulations to team 1868A (and our amazing coach Chuck) for winning the Sportsmanship Award!
URL:https://vex.spacecookies.org/event/battle-of-the-bay-2025/
LOCATION:Dublin High School\, 8151 Village Parkway\, Dublin\, CA\, 94568\, United States
CATEGORIES:Competition
END:VEVENT
BEGIN:VEVENT
DTSTART;TZID=America/Los_Angeles:20241214T080000
DTEND;TZID=America/Los_Angeles:20241214T170000
DTSTAMP:20260423T055109
CREATED:20241117T235709Z
LAST-MODIFIED:20241117T235709Z
UID:2457-1734163200-1734195600@vex.spacecookies.org
SUMMARY:DRC VEX V5 Robotics Competition #1
DESCRIPTION:
URL:https://vex.spacecookies.org/event/drc-vex-v5-robotics-competition-1/
LOCATION:Dublin Robotics Club\, 6500 Dublin Boulevard\, Dublin\, CA\, 94568\, United States
CATEGORIES:Competition
END:VEVENT
BEGIN:VEVENT
DTSTART;TZID=America/Los_Angeles:20241116T073000
DTEND;TZID=America/Los_Angeles:20241116T190000
DTSTAMP:20260423T055109
CREATED:20241024T181403Z
LAST-MODIFIED:20241118T000040Z
UID:2393-1731742200-1731783600@vex.spacecookies.org
SUMMARY:Bay Area High Stakes VEX V5 Robotics Competition #3
DESCRIPTION:Congratulations to all 4 teams for making the eliminations round and for team 1868A winning the Innovate award!
URL:https://vex.spacecookies.org/event/bay-area-high-stakes-vex-v5-robotics-competition-3/
LOCATION:Cesar Chavez Ravenswood Middle School\, 2450 Ralmar Avenue\, East Palo Alto\, CA\, 94303\, United States
CATEGORIES:Competition
END:VEVENT
BEGIN:VEVENT
DTSTART;TZID=America/Los_Angeles:20241019T070000
DTEND;TZID=America/Los_Angeles:20241019T170000
DTSTAMP:20260423T055109
CREATED:20241024T181603Z
LAST-MODIFIED:20241024T190406Z
UID:2395-1729321200-1729357200@vex.spacecookies.org
SUMMARY:Saratoga Robotics Tournament #1
DESCRIPTION:Congratulations to team 1868A for winning the Judges Award!
URL:https://vex.spacecookies.org/event/saratoga-robotics-tournament-1/
LOCATION:Saratoga High School\, 20300 Herriman Avenue\, Saratoga\, CA\, 95070\, United States
CATEGORIES:Competition
END:VEVENT
BEGIN:VEVENT
DTSTART;TZID=America/Los_Angeles:20240921T100000
DTEND;TZID=America/Los_Angeles:20240921T150000
DTSTAMP:20260423T055109
CREATED:20241024T181804Z
LAST-MODIFIED:20241024T190414Z
UID:2397-1726912800-1726930800@vex.spacecookies.org
SUMMARY:Reid-Hillview Airport Community Day 2024
DESCRIPTION:We will demonstrate past competition robots\, host activities like trivial games and allow attendees to drive our Square-Bots
URL:https://vex.spacecookies.org/event/reid-hillview-airport-community-day-2024/
LOCATION:Reid-Hillview County Airport\, 2500 Cunningham Ave\,\, San Jose\, CA\, 95148\, United States
CATEGORIES:Outreach
END:VEVENT
BEGIN:VEVENT
DTSTART;TZID=America/Los_Angeles:20240612T110000
DTEND;TZID=America/Los_Angeles:20240612T140000
DTSTAMP:20260423T055109
CREATED:20241024T183950Z
LAST-MODIFIED:20241024T190423Z
UID:2426-1718190000-1718200800@vex.spacecookies.org
SUMMARY:NASA Ames Research Center Employee Picnic
DESCRIPTION:We will demonstrate past competition robots and allow attendees to drive our Square-Bots
URL:https://vex.spacecookies.org/event/nasa-ames-research-center-employee-picnic/
CATEGORIES:Outreach
END:VEVENT
BEGIN:VEVENT
DTSTART;TZID=America/Los_Angeles:20240323T130000
DTEND;TZID=America/Los_Angeles:20240323T160000
DTSTAMP:20260423T055109
CREATED:20241024T183907Z
LAST-MODIFIED:20241024T190431Z
UID:2423-1711198800-1711209600@vex.spacecookies.org
SUMMARY:International Women and Girls in Science Day
DESCRIPTION:We will host a robotics workshop for Girl Scouts in K-12.
URL:https://vex.spacecookies.org/event/international-women-and-girls-in-science-day/
LOCATION:Resource Area For Teaching – RAFT San Jose\, 1355 Ridder Park Dr\, San Jose\, CA\, 95131\, United States
CATEGORIES:Outreach
END:VEVENT
BEGIN:VEVENT
DTSTART;TZID=America/Los_Angeles:20240310T080000
DTEND;TZID=America/Los_Angeles:20240310T170000
DTSTAMP:20260423T055109
CREATED:20241024T183631Z
LAST-MODIFIED:20241024T190442Z
UID:2420-1710057600-1710090000@vex.spacecookies.org
SUMMARY:2024 California Region-2 VRC Middle School Championship - Silicon Valley
DESCRIPTION:Team 1868X will compete
URL:https://vex.spacecookies.org/event/2024-california-region-2-vrc-middle-school-championship-silicon-valley/
LOCATION:India Community Center\, 525 Los Coches Street\, Milpitas\, CA\, 95035\, United States
CATEGORIES:Competition
END:VEVENT
BEGIN:VEVENT
DTSTART;TZID=America/Los_Angeles:20240309T080000
DTEND;TZID=America/Los_Angeles:20240309T170000
DTSTAMP:20260423T055109
CREATED:20241024T183533Z
LAST-MODIFIED:20241024T190453Z
UID:2418-1709971200-1710003600@vex.spacecookies.org
SUMMARY:2024 California Region 2 VRC High School Regional Championship - Silicon Valley
DESCRIPTION:Team 1868A will compete
URL:https://vex.spacecookies.org/event/2024-california-region-2-vrc-high-school-regional-championship-silicon-valley/
CATEGORIES:Competition
END:VEVENT
BEGIN:VEVENT
DTSTART;TZID=America/Los_Angeles:20240303T100000
DTEND;TZID=America/Los_Angeles:20240303T120000
DTSTAMP:20260423T055109
CREATED:20240213T013848Z
LAST-MODIFIED:20241024T190544Z
UID:2293-1709460000-1709467200@vex.spacecookies.org
SUMMARY:Space Cookies VEX Open House 2024 - #3
DESCRIPTION:We are excited to invite you to our third Open House event of 2024! Every year we host multiple Open House sessions followed by three lab visits at NASA Ames for girls interested in joining the team. Candidates will need to attend the Open House and all three consecutive lab days in order to join the team.\nThe first Open House event will be held on Sunday\, March 3\, 2024 from 10:00am-12:00pm at the Lou Henry Hoover Girl Scout House in Palo Alto. More details will be sent in an email later on after completing the sign-up form.\nWe hope to see you there!
URL:https://vex.spacecookies.org/event/space-cookies-open-house-2024-3/
CATEGORIES:Outreach,Recruitment
END:VEVENT
BEGIN:VEVENT
DTSTART;TZID=America/Los_Angeles:20240302T150000
DTEND;TZID=America/Los_Angeles:20240302T170000
DTSTAMP:20260423T055109
CREATED:20240213T013722Z
LAST-MODIFIED:20241024T190552Z
UID:2291-1709391600-1709398800@vex.spacecookies.org
SUMMARY:Space Cookies VEX Open House 2024 - #2
DESCRIPTION:We are excited to invite you to our second Open House event of 2024! Every year we host multiple Open House sessions followed by three lab visits at NASA Ames for girls interested in joining the team. Candidates will need to attend the Open House and all three consecutive lab days in order to join the team.\nThe second Open House event will be held on Saturday\, March 2\, 2024 from 3:00-5:00pm at the Lou Henry Hoover Girl Scout House in Palo Alto. More details will be sent in an email later on after completing the sign-up form.\nWe hope to see you there!
URL:https://vex.spacecookies.org/event/space-cookies-open-house-2024-2/
CATEGORIES:Outreach,Recruitment
END:VEVENT
END:VCALENDAR