BEGIN:VCALENDAR
VERSION:2.0
PRODID:-//Space Cookies VEX - ECPv6.15.20//NONSGML v1.0//EN
CALSCALE:GREGORIAN
METHOD:PUBLISH
X-WR-CALNAME:Space Cookies VEX
X-ORIGINAL-URL:https://vex.spacecookies.org
X-WR-CALDESC:Events for Space Cookies VEX
REFRESH-INTERVAL;VALUE=DURATION:PT1H
X-Robots-Tag:noindex
X-PUBLISHED-TTL:PT1H
BEGIN:VTIMEZONE
TZID:America/Los_Angeles
BEGIN:DAYLIGHT
TZOFFSETFROM:-0800
TZOFFSETTO:-0700
TZNAME:PDT
DTSTART:20210314T100000
END:DAYLIGHT
BEGIN:STANDARD
TZOFFSETFROM:-0700
TZOFFSETTO:-0800
TZNAME:PST
DTSTART:20211107T090000
END:STANDARD
BEGIN:DAYLIGHT
TZOFFSETFROM:-0800
TZOFFSETTO:-0700
TZNAME:PDT
DTSTART:20220313T100000
END:DAYLIGHT
BEGIN:STANDARD
TZOFFSETFROM:-0700
TZOFFSETTO:-0800
TZNAME:PST
DTSTART:20221106T090000
END:STANDARD
BEGIN:DAYLIGHT
TZOFFSETFROM:-0800
TZOFFSETTO:-0700
TZNAME:PDT
DTSTART:20230312T100000
END:DAYLIGHT
BEGIN:STANDARD
TZOFFSETFROM:-0700
TZOFFSETTO:-0800
TZNAME:PST
DTSTART:20231105T090000
END:STANDARD
BEGIN:DAYLIGHT
TZOFFSETFROM:-0800
TZOFFSETTO:-0700
TZNAME:PDT
DTSTART:20240310T100000
END:DAYLIGHT
BEGIN:STANDARD
TZOFFSETFROM:-0700
TZOFFSETTO:-0800
TZNAME:PST
DTSTART:20241103T090000
END:STANDARD
END:VTIMEZONE
BEGIN:VEVENT
DTSTART;TZID=America/Los_Angeles:20230304T133000
DTEND;TZID=America/Los_Angeles:20230304T153000
DTSTAMP:20260423T114021
CREATED:20230210T092820Z
LAST-MODIFIED:20241024T190730Z
UID:2104-1677936600-1677943800@vex.spacecookies.org
SUMMARY:Space Cookies Open House #1 for potential new members
DESCRIPTION:We are excited to invite you to join one of our 2023 Open Houses. Every year we host an Open House for girls interested in joining the team\, followed by three consecutive lab visits. After the lab visits\, potential new members may get an invitation to join the team. Once the new members accept the invitation and complete their paperwork\, they can start attending troop meetings. \nWe will be holding our Open House on Saturday\, March 4\, 2023 from 1:30-3:30pm and Sunday\, March 5\, 2023 from 10:30-12:30pm in Palo Alto\, CA. Please sign up for the Open House and we’ll send you the meeting location via email. \nSorry… Sign ups ended on 3/1/23.
URL:https://vex.spacecookies.org/event/space-cookies-open-house-1-for-potential-new-members/
LOCATION:CA
CATEGORIES:Outreach,Recruitment
END:VEVENT
BEGIN:VEVENT
DTSTART;TZID=America/Los_Angeles:20230212T080000
DTEND;TZID=America/Los_Angeles:20230212T170000
DTSTAMP:20260423T114021
CREATED:20230209T012501Z
LAST-MODIFIED:20241024T190742Z
UID:2044-1676188800-1676221200@vex.spacecookies.org
SUMMARY:VRC\, Bay Area Spin Up #3\, Middle School Only
DESCRIPTION:
URL:https://vex.spacecookies.org/event/vrc-bay-area-spin-up-3-middle-school-only/
LOCATION:Cesar Chavez Ravenswood Middle School\, 2450 Ralmar Avenue\, East Palo Alto\, CA\, 94303\, United States
CATEGORIES:Competition
END:VEVENT
BEGIN:VEVENT
DTSTART;TZID=America/Los_Angeles:20230212T070000
DTEND;TZID=America/Los_Angeles:20230212T170000
DTSTAMP:20260423T114021
CREATED:20230209T012354Z
LAST-MODIFIED:20241024T190749Z
UID:2041-1676185200-1676221200@vex.spacecookies.org
SUMMARY:VRC\, Redwood Robotics/Saratoga High VEX Spin Up Tournament
DESCRIPTION:
URL:https://vex.spacecookies.org/event/vrc-redwood-robotics-saratoga-high-vex-spin-up-tournament/
LOCATION:Saratoga High School\, 20300 Herriman Avenue\, Saratoga\, CA\, 95070\, United States
CATEGORIES:Competition
END:VEVENT
BEGIN:VEVENT
DTSTART;TZID=America/Los_Angeles:20230204T110000
DTEND;TZID=America/Los_Angeles:20230204T140000
DTSTAMP:20260423T114021
CREATED:20230209T011116Z
LAST-MODIFIED:20241024T190758Z
UID:2035-1675508400-1675519200@vex.spacecookies.org
SUMMARY:Outreach Event at Oakland Diocese Kristina Taylor Science Fair
DESCRIPTION:Outreach event for twenty-four Catholic schools from Alameda and Contra Costa Counties. Space Cookies demonstrated our robots and allowed attendees to test drive them.
URL:https://vex.spacecookies.org/event/outreach-events-at-oakland-diocese-kristina-taylor-science-fair/
LOCATION:Saint Joseph Notre Dame High School\, 1011 Chestnut Street\, Alameda\, CA\, United States
CATEGORIES:Outreach
END:VEVENT
BEGIN:VEVENT
DTSTART;TZID=America/Los_Angeles:20230129T080000
DTEND;TZID=America/Los_Angeles:20230129T170000
DTSTAMP:20260423T114021
CREATED:20241024T185359Z
LAST-MODIFIED:20241024T190807Z
UID:2440-1674979200-1675011600@vex.spacecookies.org
SUMMARY:VRC\, 2023 Northern California - Silicon Valley - Spin Up Tournament #3 MS&HS
DESCRIPTION:
URL:https://vex.spacecookies.org/event/vrc-2023-northern-california-silicon-valley-spin-up-tournament-3-mshs/
LOCATION:India Community Center\, 525 Los Coches Street\, Milpitas\, CA\, 95035\, United States
CATEGORIES:Competition
END:VEVENT
BEGIN:VEVENT
DTSTART;TZID=America/Los_Angeles:20230122T080000
DTEND;TZID=America/Los_Angeles:20230122T180000
DTSTAMP:20260423T114021
CREATED:20230209T005724Z
LAST-MODIFIED:20241024T190924Z
UID:2028-1674374400-1674410400@vex.spacecookies.org
SUMMARY:VRC\, Bay Area Spin Up #2\, Middle School Only
DESCRIPTION:VEX Robotics Competition Spin Up is played on a 12’x12’ (3.65m x 3.65m) square field configured as seen above. Two (2) Alliances – one (1) “red” and one (1) “blue” – composed of two (2) Teams each\, compete in matches consisting of a fifteen (15) second Autonomous Period\, followed by a one minute and forty-five second (1:45) Driver Controlled Period. \nThe object of the game is to attain a higher score than the opposing Alliance by Scoring Discs in Goals\, Owning Rollers\, and Covering field tiles at the end of the Match.
URL:https://vex.spacecookies.org/event/vrc-2023-northern-california-spin-up-tournament-3/
LOCATION:Cesar Chavez Ravenswood Middle School\, 2450 Ralmar Avenue\, East Palo Alto\, CA\, 94303\, United States
CATEGORIES:Competition
END:VEVENT
BEGIN:VEVENT
DTSTART;TZID=America/Los_Angeles:20230122T080000
DTEND;TZID=America/Los_Angeles:20230122T170000
DTSTAMP:20260423T114021
CREATED:20241024T190010Z
LAST-MODIFIED:20241024T190815Z
UID:2444-1674374400-1674406800@vex.spacecookies.org
SUMMARY:VRC\, Bay Area Spin Up #2\, MS Only
DESCRIPTION:Our middle school teams 1868X and 1868Z will compete
URL:https://vex.spacecookies.org/event/vrc-bay-area-spin-up-2-ms-only/
LOCATION:Cesar Chavez Ravenswood Middle School\, 2450 Ralmar Avenue\, East Palo Alto\, CA\, 94303\, United States
CATEGORIES:Competition
END:VEVENT
BEGIN:VEVENT
DTSTART;TZID=America/Los_Angeles:20230108T080000
DTEND;TZID=America/Los_Angeles:20230108T170000
DTSTAMP:20260423T114021
CREATED:20241024T185552Z
LAST-MODIFIED:20241024T190821Z
UID:2442-1673164800-1673197200@vex.spacecookies.org
SUMMARY:VRC\, 2023 Northern California - Silicon Valley - Spin Up Tournament #1
DESCRIPTION:
URL:https://vex.spacecookies.org/event/vrc-2023-northern-california-silicon-valley-spin-up-tournament-1-2/
LOCATION:India Community Center\, 525 Los Coches Street\, Milpitas\, CA\, 95035\, United States
CATEGORIES:Competition
END:VEVENT
BEGIN:VEVENT
DTSTART;TZID=America/Los_Angeles:20230108T080000
DTEND;TZID=America/Los_Angeles:20230108T170000
DTSTAMP:20260423T114021
CREATED:20241024T185242Z
LAST-MODIFIED:20241024T190916Z
UID:2438-1673164800-1673197200@vex.spacecookies.org
SUMMARY:VRC\, 2023 Northern California - Silicon Valley - Spin Up Tournament #1
DESCRIPTION:Our High School teams 1868A and 1868N will compete
URL:https://vex.spacecookies.org/event/vrc-2023-northern-california-silicon-valley-spin-up-tournament-1/
LOCATION:Saratoga High School\, 20300 Herriman Avenue\, Saratoga\, CA\, 95070\, United States
CATEGORIES:Competition
END:VEVENT
BEGIN:VEVENT
DTSTART;TZID=America/Los_Angeles:20220625T103000
DTEND;TZID=America/Los_Angeles:20220625T124500
DTSTAMP:20260423T114021
CREATED:20220611T191907Z
LAST-MODIFIED:20241024T190828Z
UID:1905-1656153000-1656161100@vex.spacecookies.org
SUMMARY:2022 In-Person Open House
DESCRIPTION:We’ll be hosting an in-person open house at Blue River Technology in Sunnyvale on June 25th and June 26th\, from 10:30 AM-12:45 PM. All girls and non-binary individuals in the 6th-12th grades are welcome to join us and learn about our troop. No experience is required. Learn about the engineering design process\, computer programming\, and more! A signup link will be provided soon.
URL:https://vex.spacecookies.org/event/2022-in-person-open-house/
LOCATION:Blue River Technology in Sunnyvale\, 605 W California Ave\, Sunnyvale\, CA\, 94086\, United States
CATEGORIES:Outreach,Recruitment
END:VEVENT
END:VCALENDAR